BEGIN:VCALENDAR
VERSION:2.0
PRODID:-//Akarana Event Centre - ECPv6.14.1//NONSGML v1.0//EN
CALSCALE:GREGORIAN
METHOD:PUBLISH
X-WR-CALNAME:Akarana Event Centre
X-ORIGINAL-URL:https://akarana.co.nz
X-WR-CALDESC:Events for Akarana Event Centre
REFRESH-INTERVAL;VALUE=DURATION:PT1H
X-Robots-Tag:noindex
X-PUBLISHED-TTL:PT1H
BEGIN:VTIMEZONE
TZID:Pacific/Auckland
BEGIN:STANDARD
TZOFFSETFROM:+1300
TZOFFSETTO:+1200
TZNAME:NZST
DTSTART:20230401T140000
END:STANDARD
BEGIN:DAYLIGHT
TZOFFSETFROM:+1200
TZOFFSETTO:+1300
TZNAME:NZDT
DTSTART:20230923T140000
END:DAYLIGHT
END:VTIMEZONE
BEGIN:VEVENT
DTSTART;VALUE=DATE:20231225
DTEND;VALUE=DATE:20231227
DTSTAMP:20260422T005412
CREATED:20221017T142306Z
LAST-MODIFIED:20221017T142306Z
UID:3237-1703509200-1703595599@akarana.co.nz
SUMMARY:Christmas Day
DESCRIPTION:
URL:https://akarana.co.nz/event/christmas-day-3/
CATEGORIES:Community Notice
END:VEVENT
END:VCALENDAR