BEGIN:VCALENDAR
VERSION:2.0
PRODID:-//Akarana Event Centre - ECPv6.14.1//NONSGML v1.0//EN
CALSCALE:GREGORIAN
METHOD:PUBLISH
X-WR-CALNAME:Akarana Event Centre
X-ORIGINAL-URL:https://akarana.co.nz
X-WR-CALDESC:Events for Akarana Event Centre
REFRESH-INTERVAL;VALUE=DURATION:PT1H
X-Robots-Tag:noindex
X-PUBLISHED-TTL:PT1H
BEGIN:VTIMEZONE
TZID:Pacific/Auckland
BEGIN:STANDARD
TZOFFSETFROM:+1300
TZOFFSETTO:+1200
TZNAME:NZST
DTSTART:20260404T140000
END:STANDARD
BEGIN:DAYLIGHT
TZOFFSETFROM:+1200
TZOFFSETTO:+1300
TZNAME:NZDT
DTSTART:20260926T140000
END:DAYLIGHT
END:VTIMEZONE
BEGIN:VEVENT
DTSTART;TZID=Pacific/Auckland:20260508T063000
DTEND;TZID=Pacific/Auckland:20260508T204500
DTSTAMP:20260422T072505
CREATED:20260421T003301Z
LAST-MODIFIED:20260421T003358Z
UID:13143-1778221800-1778273100@akarana.co.nz
SUMMARY:The Well NZ | Faith & Business Events for Professionals in New Zealand
DESCRIPTION:The Well is an initiative designed to encourage and refresh businesspeople in their faith.\nFounded in 2021\, we focus on exploring the intersection of your work and faith. Seeking to gather and encourage\, we run events in New Zealand with inspiring speakers who live successfully in the business world and are passionate about looking at the place of businesspeople in God’s Kingdom. \nAll are welcome\, you don’t need to go to church to come to this. \nVisit the-well.org.nz to learn more.
URL:https://akarana.co.nz/event/the-well-nz-faith-business-events-for-professionals-in-new-zealand/
LOCATION:Akarana Marine Sports Centre\, 8-10 Tamaki Drive\, Auckland\, 1071\, New Zealand
ATTACH;FMTTYPE=image/webp:https://akarana.co.nz/wp-content/uploads/2026/04/c004a86e-fc8f-4a6b-a409-83e480b88c23.jpg@responsive-1250.webp
END:VEVENT
END:VCALENDAR