BEGIN:VCALENDAR
VERSION:2.0
PRODID:-//Akarana Event Centre - ECPv6.14.1//NONSGML v1.0//EN
CALSCALE:GREGORIAN
METHOD:PUBLISH
X-WR-CALNAME:Akarana Event Centre
X-ORIGINAL-URL:https://akarana.co.nz
X-WR-CALDESC:Events for Akarana Event Centre
REFRESH-INTERVAL;VALUE=DURATION:PT1H
X-Robots-Tag:noindex
X-PUBLISHED-TTL:PT1H
BEGIN:VTIMEZONE
TZID:Pacific/Auckland
BEGIN:STANDARD
TZOFFSETFROM:+1300
TZOFFSETTO:+1200
TZNAME:NZST
DTSTART:20250405T140000
END:STANDARD
BEGIN:DAYLIGHT
TZOFFSETFROM:+1200
TZOFFSETTO:+1300
TZNAME:NZDT
DTSTART:20250927T140000
END:DAYLIGHT
END:VTIMEZONE
BEGIN:VEVENT
DTSTART;TZID=Pacific/Auckland:20250501T173000
DTEND;TZID=Pacific/Auckland:20250501T193000
DTSTAMP:20260421T012104
CREATED:20250316T223251Z
LAST-MODIFIED:20250424T021210Z
UID:10371-1746120600-1746127800@akarana.co.nz
SUMMARY:Wedding Open Evening
DESCRIPTION:Join us for an exclusive Wedding Open Evening on Thursday\, 1st May 2025 — 5.30pm-7.30pm at the stunning Akarana Waterfront Events Centre! What to Expect:  Be inspired by breathtaking waterfront views and beautifully styled ceremony and reception setups.  Meet Auckland’s leading wedding vendors—all under one roof.  Every registration goes in the draw to win our Ultimate Wedding Giveaway worth $8\,000—plus gain access to exclusive supplier offers!  Enjoy a complimentary glass of bubbles from our licensed bar and savour gourmet canapés from our in-house catering team.  Be one of the first 40 couples to register and receive a goodie bag filled with treats and exclusive deals!  PLUS – Every registration puts you in the draw to win our Ultimate Wedding Giveaway\, featuring: FREE room hire for your big day (valued at $4\,500) – Akarana Waterfront EventsA $400 gown voucher from Fritz and Sarah BridalA complimentary engagement shoot by Michael Tuck Photography50% off MC services with Natasha BowenA $350 photo booth voucher from Vintobooths1x FREE printed fabric sign (3m x 1m) from hstudio.20% off orders at Event Styling Co $250 off bridal florals from Pinnacle BridalComplimentary tier upgrade from Champagne Towers NZ25% off Booking total with Fluffybums Petcare(*T&C’s apply) Secure your spot today – limited registrations available below! Meet our Vendors: Catering: @akaranawaterfront | Beverage: @hancocksnz | Bridal fashion: @fritzandsarah | Cakes & baking: @sweetbitesnz | Celebrant: @natashabowen | Custom Bridal design: @Pinnaclebridal | Decor hire: @insphirenz | Florals & styling: @blush flowers |Furniture hire: @lucyseventhire | Hair & Make-up: @serenity_makeup | Music/vocalist: @jasperhawkinsmusicnz | Petcare: @fluffybums_petcare | Photobooth: @vintobooths | Photography: @michaeljamestuck | Planner & styling: @therevelry | Venue: @akaranawaterfront Please note: goody bags are limited to one per registered attendee (not per guest) 								\n				\n				\n				\n																														\n				\n				\n				\n									\n					\n						\n									Find out about Weddings at Akarana
URL:https://akarana.co.nz/event/wedding-open-evening/
LOCATION:Akarana Marine Sports Centre\, 8-10 Tamaki Drive\, Auckland\, 1071\, New Zealand
ATTACH;FMTTYPE=image/jpeg:https://akarana.co.nz/wp-content/uploads/2024/04/Akarana-Open-Wedding-Day-27.jpg
END:VEVENT
END:VCALENDAR